BEGIN:VCALENDAR
VERSION:2.0
PRODID:-//Niels Weber - ECPv6.14.2//NONSGML v1.0//EN
CALSCALE:GREGORIAN
METHOD:PUBLISH
X-ORIGINAL-URL:https://nielsweber.ch
X-WR-CALDESC:Évènements pour Niels Weber
REFRESH-INTERVAL;VALUE=DURATION:PT1H
X-Robots-Tag:noindex
X-PUBLISHED-TTL:PT1H
BEGIN:VTIMEZONE
TZID:Europe/Zurich
BEGIN:DAYLIGHT
TZOFFSETFROM:+0100
TZOFFSETTO:+0200
TZNAME:CEST
DTSTART:20230326T010000
END:DAYLIGHT
BEGIN:STANDARD
TZOFFSETFROM:+0200
TZOFFSETTO:+0100
TZNAME:CET
DTSTART:20231029T010000
END:STANDARD
BEGIN:DAYLIGHT
TZOFFSETFROM:+0100
TZOFFSETTO:+0200
TZNAME:CEST
DTSTART:20240331T010000
END:DAYLIGHT
BEGIN:STANDARD
TZOFFSETFROM:+0200
TZOFFSETTO:+0100
TZNAME:CET
DTSTART:20241027T010000
END:STANDARD
BEGIN:DAYLIGHT
TZOFFSETFROM:+0100
TZOFFSETTO:+0200
TZNAME:CEST
DTSTART:20250330T010000
END:DAYLIGHT
BEGIN:STANDARD
TZOFFSETFROM:+0200
TZOFFSETTO:+0100
TZNAME:CET
DTSTART:20251026T010000
END:STANDARD
END:VTIMEZONE
BEGIN:VEVENT
DTSTART;TZID=Europe/Zurich:20251126T090000
DTEND;TZID=Europe/Zurich:20251126T170000
DTSTAMP:20260424T040802
CREATED:20251030T075105Z
LAST-MODIFIED:20251030T075105Z
UID:3056-1764147600-1764176400@nielsweber.ch
SUMMARY:8ème colloque aire d’ados du réseau santé-social à l’épreuve de la crise suicidaire chez les jeunes\, 26.11\, Genève
DESCRIPTION:Jeunes sur les réseaux sociaux : entre risques et ressources
URL:https://nielsweber.ch/event/8eme-colloque-aire-dados-du-reseau-sante-social-a-lepreuve-de-la-crise-suicidaire-chez-les-jeunes-26-11-geneve/
LOCATION:GrandLab de la Fondation ForPro\, Rte de la Galaise 23A\, Plan-les-Ouates\, 1228
ATTACH;FMTTYPE=image/png:https://nielsweber.ch/wp-content/uploads/2025/10/airedados-2025.png
END:VEVENT
BEGIN:VEVENT
DTSTART;TZID=Europe/Zurich:20251124T190000
DTEND;TZID=Europe/Zurich:20251124T210000
DTSTAMP:20260424T040802
CREATED:20251030T074016Z
LAST-MODIFIED:20251030T074019Z
UID:3047-1764010800-1764018000@nielsweber.ch
SUMMARY:Café-parents "Les écrans & nos enfants"\, 24.11\, Lausanne
DESCRIPTION:Informations à venir
URL:https://nielsweber.ch/event/cafe-parents-les-ecrans-nos-enfants-24-11-lausanne/
LOCATION:APEMS du Parc\, Ch. de Rovéréaz 9\, Lausanne\, 1012
CATEGORIES:Conférence
END:VEVENT
BEGIN:VEVENT
DTSTART;TZID=Europe/Zurich:20251113T090000
DTEND;TZID=Europe/Zurich:20251114T171500
DTSTAMP:20260424T040803
CREATED:20251030T072521Z
LAST-MODIFIED:20251030T072525Z
UID:3041-1763024400-1763140500@nielsweber.ch
SUMMARY:Formation FARP 2025
DESCRIPTION:Ces écrans qui nous (dé)lient : enjeux actuels en thérapie de famille (avec Jon Schmidt)\n \n\nLes familles actuelles ont parfois du mal à percevoir comment valoriser les liens entre leurs membres et se positionner par rapport aux écrans. Alors qu’une grande pression règne déjà sur la performance au quotidien\, les écrans viennent ajouter un domaine d’inquiétude supplémentaire pour les parents. Ceux-ci\, souvent démunis face aux demandes insistantes de leurs enfants puis face aux pratiques de leurs adolescent·e·s\, peinent à se sentir légitimes dans un rôle encadrant. Cette constatation va souvent de pair avec la crainte de mettre à mal des liens déjà affaiblis par une impression de confiance rompue.  \nLes pratiques numériques prennent des formes variées : jeux vidéo\, réseaux sociaux\, musique\, vidéos de partage personnel sur YouTube\, Snapchat ou Tik Tok. S’il est normal que ces utilisations relèvent du principe d’autonomisation des adolescent·e·s\, celles-ci doivent pouvoir se faire dans le respect du cadre familial et avec l’assurance de ne pas se mettre en danger. Aussi\, ce séminaire abordera dans un premier temps ce que représentent les jeux vidéo et les réseaux sociaux aujourd’hui\, comment les décrypter et comprendre les comportements prenant place au sein de l’activité de jeu\, mais aussi en dehors de l’écran.  \nPuis\, nous questionnerons la place qu’occupent les écrans actuellement dans les familles et comment ceux-ci servent également de passerelle vers le monde extérieur et les pairs. Nous explorerons des pistes pour comprendre ce que les adolescent·e·s tentent de nous dire à travers leurs pratiques numériques\, mais aussi ce que cela nous dit de la manière dont nous pouvons aider les familles à réaffirmer la valeur des liens.  \nEn nous basant sur les situations fournies\, nous verrons comment repérer des indices cliniques intéressants dans les pratiques numériques des patient·e·s et les utiliser dans le processus clinique/thérapeutique. En effet\, en évaluant comment les écrans peuvent être à la fois sources d’inquiétudes mais aussi une ressource\, nous verrons comment amener les familles à repenser leur fonctionnement et leur structure. \n\n\nPré-requis \n\nPratique clinique\n\n\n\n\n\nDomaine \nPsychothérapie \n\n\nOrientation \nSystémique \n\n\nPopulation concernée \nCouple/Famille \n\n\nParticipant-e-s \nPsychologuePsychiatre
URL:https://nielsweber.ch/event/formation-farp-2025/
LOCATION:FARP\, Ch. de Mornex 3\, Lausanne\, 1003
CATEGORIES:Formation
ORGANIZER;CN="FARP":MAILTO:admin@farp.ch
END:VEVENT
BEGIN:VEVENT
DTSTART;TZID=Europe/Zurich:20251110T193000
DTEND;TZID=Europe/Zurich:20251110T210000
DTSTAMP:20260424T040803
CREATED:20250724T155115Z
LAST-MODIFIED:20250724T155115Z
UID:2881-1762803000-1762808400@nielsweber.ch
SUMMARY:Conférence ados - Ados pas accros\, parents pas zéro. Comment dialoguer en famille à propos des écrans ? Coppet\, 10.11.25
DESCRIPTION:
URL:https://nielsweber.ch/event/conference-ados-ados-pas-accros-parents-pas-zero-comment-dialoguer-en-famille-a-propos-des-ecrans-coppet-10-11-25/
LOCATION:salle communale de Coppet\, Places des Ormes 1\, Coppet\, Switzerland
CATEGORIES:Conférence
ATTACH;FMTTYPE=image/png:https://nielsweber.ch/wp-content/uploads/2025/07/Conference-Niesl-Weber-ados.png
END:VEVENT
BEGIN:VEVENT
DTSTART;TZID=Europe/Zurich:20251030T190000
DTEND;TZID=Europe/Zurich:20251030T203000
DTSTAMP:20260424T040803
CREATED:20251030T071048Z
LAST-MODIFIED:20251030T071048Z
UID:3022-1761850800-1761856200@nielsweber.ch
SUMMARY:Conférence: Enfants\, smartphones et réseaux sociaux: quels enjeux ?\, Pully 30.10.25
DESCRIPTION:Le Conseil d’Etablissement de Pully\, Paudex et Belmont (CET) organise une conférence sur le thème de la relations entre les adolescent·e·s et les écrans. Elle sera animée par Monsieur Niels Weber\, psychologue-psychothérapeute FSP\, thérapeute systémicien et spécialiste en hyperconnectivité. \nCette conférence s’adresse aux parents d’élèves de 8 à 14 ans\, professionnels de l’enfants ou toute personne intéressée. Elle se déroulera le jeudi 30 octobre 2025 de 19h00 à 20h30 et aura lieu au cinéma CityClub de Pully\, qui ouvrira son bar à la suite de la conférence pour permettre aux personnes présentes de continuer à échanger et de profiter d’un moment convivial. \nInscription obligatoire / Prestation offerte par le Conseil d’établissement de Pully\, Paudex et Belmont
URL:https://nielsweber.ch/event/conference-enfants-smartphones-et-reseaux-sociaux-quels-enjeux-pully-30-10-25/
LOCATION:Cinéma CityClub\, Av. de Lavaux 36\, Pully\, 1009\, Switzerland
CATEGORIES:Conférence
END:VEVENT
BEGIN:VEVENT
DTSTART;TZID=Europe/Zurich:20250923T193000
DTEND;TZID=Europe/Zurich:20250923T210000
DTSTAMP:20260424T040803
CREATED:20250724T154625Z
LAST-MODIFIED:20250724T154744Z
UID:2874-1758655800-1758661200@nielsweber.ch
SUMMARY:Conférence 0-6 ans - Enfants devant les écrans\, parents derrières leurs écrans\, quel équilibre trouver ? Founex\, 23.09.25
DESCRIPTION:
URL:https://nielsweber.ch/event/conference-enfants-devant-les-ecrans-parents-derrieres-leurs-ecrans-quel-equilibre-trouver-founex-23-09-25/
LOCATION:Salle communale de Founex\, Route de Chataigneriaz 3\, Founex\, Switzerland
CATEGORIES:Conférence
ATTACH;FMTTYPE=image/png:https://nielsweber.ch/wp-content/uploads/2025/07/Conference-Niels-weber-0-6ans.png
END:VEVENT
BEGIN:VEVENT
DTSTART;TZID=Europe/Zurich:20250516T180000
DTEND;TZID=Europe/Zurich:20250516T193000
DTSTAMP:20260424T040803
CREATED:20250430T104528Z
LAST-MODIFIED:20250430T104646Z
UID:2775-1747418400-1747423800@nielsweber.ch
SUMMARY:Conférence Hyperconnectivité : quels enjeux pour les familles ?\, Martigny
DESCRIPTION:La Fondation Addiction Valais a donné carte blanche aux photographes valaisan·ne·s Florence Zufferey et Olivier Lovey pour monter une exposition photo autour du thème des addictions. \nÀ travers la poésie de ces deux regards croisés\, Rendre visible\, l’invisible a pour but de sortir des clichés liés à l’addiction. Le projet questionne cette maladie du lien et ses effets collatéraux\, il propose de faire un pas vers la résilience\, la compréhension et l’ouverture. \nRendre visible\, l’invisible fait partie d’une série d’événements autour des 70 ans de la Fondation Addiction Valais. \nDans le cadre de cette exposition\, Addiction Valais invite Niels Weber\, psychologue-psychothérapeute spécialisé en hyperconnectivité\, pour une conférence sur le thème “Hyperconnectivité : quels enjeux pour les familles ?”
URL:https://nielsweber.ch/event/2775/
LOCATION:Médiathèque de Martigny\, Av. de la Gare 15\, Martigny\, 1920\, Switzerland
CATEGORIES:Conférence
ATTACH;FMTTYPE=image/png:https://nielsweber.ch/wp-content/uploads/2025/04/Screenshot-2025-04-30-at-11-34-49-Hyperconnectivite-quels-enjeux-pour-les-familles-Conference-Addiction-Valais-Mediatheque-Valais-Martigny.png
END:VEVENT
BEGIN:VEVENT
DTSTART;TZID=Europe/Zurich:20250505T193000
DTEND;TZID=Europe/Zurich:20250505T210000
DTSTAMP:20260424T040803
CREATED:20250430T100405Z
LAST-MODIFIED:20250430T100405Z
UID:2767-1746473400-1746478800@nielsweber.ch
SUMMARY:Conférence pour les parents d'élèves de 8-9-10-11H\, La Neuveville
DESCRIPTION:
URL:https://nielsweber.ch/event/conference-pour-les-parents-deleves-de-8-9-10-11h-la-neuveville/
LOCATION:Salle des Eplancheurs\, Pl. de la Gare 3\, La Neuveville\, 2520\, Switzerland
CATEGORIES:Conférence
ATTACH;FMTTYPE=image/jpeg:https://nielsweber.ch/wp-content/uploads/2025/04/Flyer-Neuveville-05-mai.jpeg
END:VEVENT
BEGIN:VEVENT
DTSTART;TZID=Europe/Zurich:20250325T181500
DTEND;TZID=Europe/Zurich:20250325T193000
DTSTAMP:20260424T040803
CREATED:20250324T153828Z
LAST-MODIFIED:20250324T153828Z
UID:2735-1742926500-1742931000@nielsweber.ch
SUMMARY:Discussion jeux vidéo et santé mental\, UNIL (AESSP)
DESCRIPTION:Demain soir à l’ Université de Lausanne\, je réponds à l’invitation de l’Association des étudiant·e·x·s en SSP pour discuter jeux vidéo et santé mentale. 🎮
URL:https://nielsweber.ch/event/discussion-jeux-video-et-sante-mental-unil-aessp/
LOCATION:Université de Lausanne
CATEGORIES:Conférence
ATTACH;FMTTYPE=image/png:https://nielsweber.ch/wp-content/uploads/2025/03/Affiche-jeux-video-aessp.png
END:VEVENT
BEGIN:VEVENT
DTSTART;TZID=Europe/Zurich:20250214T080000
DTEND;TZID=Europe/Zurich:20250216T170000
DTSTAMP:20260424T040803
CREATED:20250108T223742Z
LAST-MODIFIED:20250108T223742Z
UID:2595-1739520000-1739725200@nielsweber.ch
SUMMARY:Congrès "Ecrans\, parlons-en" avec Action Innocence\, 14-15-16 février\, Genève
DESCRIPTION:Infos et inscription: ecransparlonsen.ch \nLes 15 et 16 se dérouleront deux journées dédiées aux familles!
URL:https://nielsweber.ch/event/congres-ecrans-parlons-en-avec-action-innocence-14-15-16-fevrier-geneve/
LOCATION:salle Franck Martin\, Rue Mina-AUDEMARS 3\, Genève\, Genève
CATEGORIES:Conférence
ATTACH;FMTTYPE=image/png:https://nielsweber.ch/wp-content/uploads/2025/01/Capture-decran-2025-01-08-232015-1.png
END:VEVENT
BEGIN:VEVENT
DTSTART;TZID=Europe/Zurich:20241123T110000
DTEND;TZID=Europe/Zurich:20241123T150000
DTSTAMP:20260424T040803
CREATED:20241122T150826Z
LAST-MODIFIED:20241122T150826Z
UID:2512-1732359600-1732374000@nielsweber.ch
SUMMARY:Séance de dédicaces "Les écrans\, je gère"\, Lausanne
DESCRIPTION:Au plaisir de vous retrouver sur place et de discuter du livre!
URL:https://nielsweber.ch/event/seance-de-dedicaces-les-ecrans-je-gere-lausanne/
LOCATION:Particules en suspension\, Rue Etraz 2\, Lausanne\, Switzerland
ATTACH;FMTTYPE=image/png:https://nielsweber.ch/wp-content/uploads/2024/11/visuel_les-ecrans-je-gere-1-an.png
END:VEVENT
BEGIN:VEVENT
DTSTART;TZID=Europe/Zurich:20241116T150000
DTEND;TZID=Europe/Zurich:20241116T150000
DTSTAMP:20260424T040803
CREATED:20241108T095633Z
LAST-MODIFIED:20241108T095633Z
UID:2505-1731769200-1731769200@nielsweber.ch
SUMMARY:Conférence "Mon ado est toujours sur un écran\, que faire?"\, Festival Planète Santé\, Lausanne
DESCRIPTION:Informations complémentaire: https://festival.planetesante.ch/festival-planete-sante-2024/sessions/mon-ado-est-toujours-sur-un-ecran-que-faire
URL:https://nielsweber.ch/event/conference-mon-ado-est-toujours-sur-un-ecran-que-faire-festival-planete-sante-lausanne/
LOCATION:Centre de Congrès Beaulieu\, Avenue des Bergières 10\, Lausanne\, Vaud\, 1004\, Suisse
CATEGORIES:Conférence
ATTACH;FMTTYPE=image/png:https://nielsweber.ch/wp-content/uploads/2024/11/planete-sante-2024.png
END:VEVENT
BEGIN:VEVENT
DTSTART;TZID=Europe/Zurich:20241108T080000
DTEND;TZID=Europe/Zurich:20241108T170000
DTSTAMP:20260424T040803
CREATED:20241108T094214Z
LAST-MODIFIED:20241108T094214Z
UID:2503-1731052800-1731085200@nielsweber.ch
SUMMARY:Congrès "5 et 5 font 6 – L’apprentissage dans un univers de possibilités infinies - 3ème Congrès suisse de psychologie scolaire"\, Bienne
DESCRIPTION:
URL:https://nielsweber.ch/event/congres-5-et-5-font-6-lapprentissage-dans-un-univers-de-possibilites-infinies-3eme-congres-suisse-de-psychologie-scolaire-bienne/
CATEGORIES:Conférence
END:VEVENT
BEGIN:VEVENT
DTSTART;TZID=Europe/Zurich:20241106T140000
DTEND;TZID=Europe/Zurich:20241106T170000
DTSTAMP:20260424T040803
CREATED:20241001T155758Z
LAST-MODIFIED:20241001T155758Z
UID:2436-1730901600-1730912400@nielsweber.ch
SUMMARY:Conférence débat: l'éducation a-t-elle raté le virage du numérique? Neuchâtel
DESCRIPTION:
URL:https://nielsweber.ch/event/conference-debat-leducation-a-t-elle-rate-le-virage-du-numerique-neuchatel/
LOCATION:Salle de spectacle\, Boudry\, Neuchâtel\, Switzerland
CATEGORIES:Conférence
END:VEVENT
BEGIN:VEVENT
DTSTART;TZID=Europe/Zurich:20241009T200000
DTEND;TZID=Europe/Zurich:20241009T213000
DTSTAMP:20260424T040803
CREATED:20241007T131601Z
LAST-MODIFIED:20241007T131601Z
UID:2449-1728504000-1728509400@nielsweber.ch
SUMMARY:Conférence "Jeux & enjeux des écrans dans la famille" avec Jon Schmidt\, Chavannes
DESCRIPTION:
URL:https://nielsweber.ch/event/conference-jeux-enjeux-des-ecrans-dans-la-famille-avec-jon-schmidt-chavannes/
LOCATION:Collège de la Plaine\, Rte de la Plaine 2\, Chavannes-près-Renens\, Vaud\, 1022\, Switzerland
CATEGORIES:Conférence
ATTACH;FMTTYPE=image/png:https://nielsweber.ch/wp-content/uploads/2024/10/image.png
END:VEVENT
BEGIN:VEVENT
DTSTART;TZID=Europe/Zurich:20240921T100000
DTEND;TZID=Europe/Zurich:20240921T100000
DTSTAMP:20260424T040803
CREATED:20240919T215408Z
LAST-MODIFIED:20240919T215408Z
UID:2425-1726912800-1726912800@nielsweber.ch
SUMMARY:Conférence: L'hyperconnectivité\, les enfants et les écrans\, Denges
DESCRIPTION:
URL:https://nielsweber.ch/event/conference-lhyperconnectivite-les-enfants-et-les-ecrans-denges/
LOCATION:Great Hope Montessori\, Rte de la Pale 14\, Denges\, 1026
CATEGORIES:Conférence
ATTACH;FMTTYPE=image/jpeg:https://nielsweber.ch/wp-content/uploads/2024/09/ConferenceNielsWeber-GreatHopeMontessori.jpg
END:VEVENT
BEGIN:VEVENT
DTSTART;TZID=Europe/Zurich:20240911T193000
DTEND;TZID=Europe/Zurich:20240911T210000
DTSTAMP:20260424T040803
CREATED:20240910T212352Z
LAST-MODIFIED:20240910T212352Z
UID:2416-1726083000-1726088400@nielsweber.ch
SUMMARY:Table ronde "Ecrans"\, Morges - 11.09.24
DESCRIPTION:Avec Julien Bugmann (Education numérique\, HEP) et Estelle Gilloz (Action Innocence) \nModération par Patrick LeFort
URL:https://nielsweber.ch/event/table-ronde-ecrans-morges-11-09-24/
LOCATION:Cube Morges\, Av. de Vertou 2c\, Morges\, 1110
CATEGORIES:Conférence
END:VEVENT
BEGIN:VEVENT
DTSTART;TZID=Europe/Zurich:20240903T193000
DTEND;TZID=Europe/Zurich:20240903T213000
DTSTAMP:20260424T040803
CREATED:20240902T060304Z
LAST-MODIFIED:20240902T060408Z
UID:2367-1725391800-1725399000@nielsweber.ch
SUMMARY:Conférence "L'enfant et les médias numériques"\, Gland\, 03.09.24
DESCRIPTION:
URL:https://nielsweber.ch/event/conference-lenfant-et-les-medias-numeriques-gland-03-09-24/
LOCATION:Salle polyvante de Montoly\, Chemin de Montoly 1\, Gland\, 1196\, Suisse
CATEGORIES:Conférence
ATTACH;FMTTYPE=image/png:https://nielsweber.ch/wp-content/uploads/2024/09/Capture-decran-2024-09-02-074626.png
END:VEVENT
BEGIN:VEVENT
DTSTART;TZID=Europe/Zurich:20240321T090000
DTEND;TZID=Europe/Zurich:20240321T164500
DTSTAMP:20260424T040803
CREATED:20240313T185925Z
LAST-MODIFIED:20240313T185925Z
UID:2274-1711011600-1711039500@nielsweber.ch
SUMMARY:Formation GREA "Jeux vidéo: situation problématique ou addiction ?"\, Lausanne
DESCRIPTION:
URL:https://nielsweber.ch/event/formation-grea-jeux-video-situation-problematique-ou-addiction-lausanne/
LOCATION:GREA\, Rue St Pierre 3\, Lausanne\, Vaud\, Suisse
CATEGORIES:Formation
END:VEVENT
BEGIN:VEVENT
DTSTART;TZID=Europe/Zurich:20240314T193000
DTEND;TZID=Europe/Zurich:20240314T210000
DTSTAMP:20260424T040803
CREATED:20240313T185543Z
LAST-MODIFIED:20240313T185543Z
UID:2270-1710444600-1710450000@nielsweber.ch
SUMMARY:Conférence "Ados pas accros\, parents pas zéro"\, Coppet
DESCRIPTION:
URL:https://nielsweber.ch/event/conference-ados-pas-accros-parents-pas-zero-coppet/
LOCATION:Coppet\, Place des Ormes 1\, Coppet\, Suisse
CATEGORIES:Conférence
END:VEVENT
BEGIN:VEVENT
DTSTART;TZID=Europe/Zurich:20231116T193000
DTEND;TZID=Europe/Zurich:20231116T210000
DTSTAMP:20260424T040803
CREATED:20231116T100810Z
LAST-MODIFIED:20231116T100810Z
UID:2224-1700163000-1700168400@nielsweber.ch
SUMMARY:Conférence organisée par la Fondation Fontanelle\, 16.11.23\, Bienne
DESCRIPTION:
URL:https://nielsweber.ch/event/conference-organisee-par-la-fondation-fontanelle-16-11-23-bienne/
LOCATION:Maison Farel\, Quai du Haut\, Bienne\, 2503
CATEGORIES:Conférence
END:VEVENT
BEGIN:VEVENT
DTSTART;TZID=Europe/Zurich:20231028T200000
DTEND;TZID=Europe/Zurich:20231028T213000
DTSTAMP:20260424T040803
CREATED:20231028T170011Z
LAST-MODIFIED:20231028T170530Z
UID:2193-1698523200-1698528600@nielsweber.ch
SUMMARY:Conférence parents\, EPS Cugy et environs
DESCRIPTION:
URL:https://nielsweber.ch/event/conference-parents-eps-cugy-et-environs/
LOCATION:collège de la combe\, Chem. de la Combe 5\, Cugy\, 1053\, Suisse
CATEGORIES:Conférence
ATTACH;FMTTYPE=image/png:https://nielsweber.ch/wp-content/uploads/2023/10/Cugy-2023.png
END:VEVENT
BEGIN:VEVENT
DTSTART;TZID=Europe/Zurich:20231012T183000
DTEND;TZID=Europe/Zurich:20231012T200000
DTSTAMP:20260424T040803
CREATED:20231011T100954Z
LAST-MODIFIED:20231011T134248Z
UID:2181-1697135400-1697140800@nielsweber.ch
SUMMARY:Toujours en ligne : table ronde autour de l’hyperconnectivité\, BCU Fribourg
DESCRIPTION:Nous sommes en permanence connectés à internet\, aussi bien au travail que dans nos loisirs\, avec les jeux vidéo par exemple ou via les réseaux sociaux.  Quels enjeux cette hyperconnectivité amène-t-elle ? Quelles sont les conséquences psychologiques et sociales de ce temps passé en ligne ? Et pour nos enfants ? La BCU vous propose une discussion avec des spécialistes de ces questions. \nIntervenants : Nastasia Civitillo\, psychologue et responsable de l’académie de jeux vidéo noetic à Genève\, Jonas Perrenoud\, éducateur spécialisé au sein de la FFJ\, animateur de préventions concernant les violences relationnelles\, les réseaux sociaux et leurs utilisations auprès des jeunes et Niels Weber\, psychologue spécialisé en hyperconnectivité.
URL:https://nielsweber.ch/event/toujours-en-ligne-table-ronde-autour-de-lhyperconnectivite-bcu-fribourg/
LOCATION:BCU Beauregard\, Rue de la Carrière 22\, Fribourg\, 1700
CATEGORIES:Conférence
END:VEVENT
BEGIN:VEVENT
DTSTART;TZID=Europe/Zurich:20231011T190000
DTEND;TZID=Europe/Zurich:20231011T203000
DTSTAMP:20260424T040803
CREATED:20231010T091133Z
LAST-MODIFIED:20231010T091133Z
UID:2178-1697050800-1697056200@nielsweber.ch
SUMMARY:Conférence parents + ados\, Ecublens
DESCRIPTION:
URL:https://nielsweber.ch/event/conference-parents-ados-ecublens/
LOCATION:Espace Nicollier\, Route du Bois 6\, Ecublens\, Suisse
CATEGORIES:Conférence
ATTACH;FMTTYPE=image/png:https://nielsweber.ch/wp-content/uploads/2023/10/ecublens-2.png
END:VEVENT
BEGIN:VEVENT
DTSTART;TZID=Europe/Zurich:20230921T190000
DTEND;TZID=Europe/Zurich:20230921T210000
DTSTAMP:20260424T040803
CREATED:20230916T171926Z
LAST-MODIFIED:20230916T171953Z
UID:2155-1695322800-1695330000@nielsweber.ch
SUMMARY:Formation au Service de la petite enfance\, Ville de Lausanne
DESCRIPTION:
URL:https://nielsweber.ch/event/formation-au-service-de-la-petite-enfance-ville-de-lausanne/
LOCATION:Centre de Vie Enfantine de l’Ancien-Stand\, Chemin de l'Ancien-Stand 24\, Lausanne\, 1018
CATEGORIES:Formation
END:VEVENT
BEGIN:VEVENT
DTSTART;TZID=Europe/Zurich:20230920T183000
DTEND;TZID=Europe/Zurich:20230920T193000
DTSTAMP:20260424T040803
CREATED:20230914T160721Z
LAST-MODIFIED:20230914T160721Z
UID:2151-1695234600-1695238200@nielsweber.ch
SUMMARY:Webinaire: Aider les ados à bien utiliser les écrans - Editions Magenta
DESCRIPTION:
URL:https://nielsweber.ch/event/webinaire-aider-les-ados-a-bien-utiliser-les-ecrans-editions-magenta/
LOCATION:En ligne
CATEGORIES:Conférence
END:VEVENT
BEGIN:VEVENT
DTSTART;TZID=Europe/Zurich:20230912T190000
DTEND;TZID=Europe/Zurich:20230912T210000
DTSTAMP:20260424T040803
CREATED:20230909T125331Z
LAST-MODIFIED:20230909T125331Z
UID:2148-1694545200-1694552400@nielsweber.ch
SUMMARY:Conférence à l'Association des Parents d’Élèves de l’École Nouvelle de la Suisse Romande\, Lausanne
DESCRIPTION:
URL:https://nielsweber.ch/event/conference-a-lassociation-des-parents-deleves-de-lecole-nouvelle-de-la-suisse-romande-lausanne/
LOCATION:Ch. de Rovéréaz 20\, 1000 Lausanne 12\, Ch. de Rovéréaz 20\, Lausann3\, 1000
CATEGORIES:Conférence
END:VEVENT
BEGIN:VEVENT
DTSTART;TZID=Europe/Zurich:20230902T090000
DTEND;TZID=Europe/Zurich:20230902T170000
DTSTAMP:20260424T040803
CREATED:20230901T160136Z
LAST-MODIFIED:20231010T085254Z
UID:2121-1693645200-1693674000@nielsweber.ch
SUMMARY:CAS Systémique - La place des écrans en thérapie systémique\, Genève
DESCRIPTION:
URL:https://nielsweber.ch/event/cas-systemique-la-place-des-ecrans-en-therapie-systemique-geneve/
CATEGORIES:Formation
END:VEVENT
BEGIN:VEVENT
DTSTART;TZID=Europe/Zurich:20230615T183000
DTEND;TZID=Europe/Zurich:20230615T203000
DTSTAMP:20260424T040803
CREATED:20230604T133054Z
LAST-MODIFIED:20230604T133211Z
UID:2058-1686853800-1686861000@nielsweber.ch
SUMMARY:Conférence "De la télévision aux réseaux sociaux\, parle-moi de ton écran"\, Angoulème
DESCRIPTION:rans
URL:https://nielsweber.ch/event/conference/
LOCATION:Cnam-Enjmin\, 138 Rue de Bordeaux\, Angoulême\, 16000\, France
CATEGORIES:Conférence
END:VEVENT
BEGIN:VEVENT
DTSTART;TZID=Europe/Zurich:20230602T080000
DTEND;TZID=Europe/Zurich:20230602T100000
DTSTAMP:20260424T040803
CREATED:20230604T132151Z
LAST-MODIFIED:20230604T132151Z
UID:2054-1685692800-1685700000@nielsweber.ch
SUMMARY:Ateliers Jeux vidéo / Réseaux sociaux\, ORIF Renens
DESCRIPTION:
URL:https://nielsweber.ch/event/ateliers-jeux-video-reseaux-sociaux-orif-renens/
CATEGORIES:Conférence
END:VEVENT
END:VCALENDAR