BEGIN:VCALENDAR
VERSION:2.0
PRODID:-//Niels Weber - ECPv6.14.2//NONSGML v1.0//EN
CALSCALE:GREGORIAN
METHOD:PUBLISH
X-ORIGINAL-URL:https://nielsweber.ch
X-WR-CALDESC:Évènements pour Niels Weber
REFRESH-INTERVAL;VALUE=DURATION:PT1H
X-Robots-Tag:noindex
X-PUBLISHED-TTL:PT1H
BEGIN:VTIMEZONE
TZID:Europe/Zurich
BEGIN:DAYLIGHT
TZOFFSETFROM:+0100
TZOFFSETTO:+0200
TZNAME:CEST
DTSTART:20210328T010000
END:DAYLIGHT
BEGIN:STANDARD
TZOFFSETFROM:+0200
TZOFFSETTO:+0100
TZNAME:CET
DTSTART:20211031T010000
END:STANDARD
END:VTIMEZONE
BEGIN:VEVENT
DTSTART;TZID=Europe/Zurich:20211002T090000
DTEND;TZID=Europe/Zurich:20211002T120000
DTSTAMP:20260423T173727
CREATED:20210901T081530Z
LAST-MODIFIED:20210901T081530Z
UID:1550-1633165200-1633176000@nielsweber.ch
SUMMARY:Formation Jeunesse & Sport: Module addictions\, Lausanne
DESCRIPTION:
URL:https://nielsweber.ch/event/formation-jeunesse-sport-module-addictions-lausanne-4/
LOCATION:Université de Lausanne
CATEGORIES:Formation
END:VEVENT
BEGIN:VEVENT
DTSTART;TZID=Europe/Zurich:20211007T080000
DTEND;TZID=Europe/Zurich:20211007T170000
DTSTAMP:20260423T173727
CREATED:20210901T082745Z
LAST-MODIFIED:20210901T082745Z
UID:1555-1633593600-1633626000@nielsweber.ch
SUMMARY:Cours Travail social à l’ère du numérique\, HETS\, Genève
DESCRIPTION:
URL:https://nielsweber.ch/event/cours-travail-social-a-lere-du-numerique-hets-geneve-2/
LOCATION:HETS-Genève\, Rue du Pré-Jérôme 16\, Genève\, Genève\, 1205\, Suisse
CATEGORIES:Formation
END:VEVENT
BEGIN:VEVENT
DTSTART;TZID=Europe/Zurich:20211013T193000
DTEND;TZID=Europe/Zurich:20211013T210000
DTSTAMP:20260423T173727
CREATED:20210901T083822Z
LAST-MODIFIED:20210901T083822Z
UID:1559-1634153400-1634158800@nielsweber.ch
SUMMARY:Conférence parents\, Renens
DESCRIPTION:En collaboration avec François Robert et Carlos Iglesias\, psychologues. Plus d’informations à venir.
URL:https://nielsweber.ch/event/conference-parents-renens/
CATEGORIES:Conférence
END:VEVENT
END:VCALENDAR