BEGIN:VCALENDAR
VERSION:2.0
PRODID:-//Niels Weber - ECPv6.14.2//NONSGML v1.0//EN
CALSCALE:GREGORIAN
METHOD:PUBLISH
X-WR-CALNAME:Niels Weber
X-ORIGINAL-URL:https://nielsweber.ch
X-WR-CALDESC:Évènements pour Niels Weber
REFRESH-INTERVAL;VALUE=DURATION:PT1H
X-Robots-Tag:noindex
X-PUBLISHED-TTL:PT1H
BEGIN:VTIMEZONE
TZID:Europe/Zurich
BEGIN:DAYLIGHT
TZOFFSETFROM:+0100
TZOFFSETTO:+0200
TZNAME:CEST
DTSTART:20180325T010000
END:DAYLIGHT
BEGIN:STANDARD
TZOFFSETFROM:+0200
TZOFFSETTO:+0100
TZNAME:CET
DTSTART:20181028T010000
END:STANDARD
BEGIN:DAYLIGHT
TZOFFSETFROM:+0100
TZOFFSETTO:+0200
TZNAME:CEST
DTSTART:20190331T010000
END:DAYLIGHT
BEGIN:STANDARD
TZOFFSETFROM:+0200
TZOFFSETTO:+0100
TZNAME:CET
DTSTART:20191027T010000
END:STANDARD
BEGIN:DAYLIGHT
TZOFFSETFROM:+0100
TZOFFSETTO:+0200
TZNAME:CEST
DTSTART:20200329T010000
END:DAYLIGHT
BEGIN:STANDARD
TZOFFSETFROM:+0200
TZOFFSETTO:+0100
TZNAME:CET
DTSTART:20201025T010000
END:STANDARD
BEGIN:DAYLIGHT
TZOFFSETFROM:+0100
TZOFFSETTO:+0200
TZNAME:CEST
DTSTART:20210328T010000
END:DAYLIGHT
BEGIN:STANDARD
TZOFFSETFROM:+0200
TZOFFSETTO:+0100
TZNAME:CET
DTSTART:20211031T010000
END:STANDARD
END:VTIMEZONE
BEGIN:VEVENT
DTSTART;TZID=Europe/Zurich:20210527T190000
DTEND;TZID=Europe/Zurich:20210527T203000
DTSTAMP:20260425T140031
CREATED:20210519T083937Z
LAST-MODIFIED:20210519T083937Z
UID:1436-1622142000-1622147400@nielsweber.ch
SUMMARY:Webinaire FARP: Accompagnement des familles dans la gestion des écrans : bilan et perspectives
DESCRIPTION:Depuis 2016\, nous proposons une aide aux familles ayant des difficultés à gérer les écrans. Si le contexte actuel de pandémie tend à accentuer l’usage des loisirs numériques\, nous proposons lors de ce webinaire de faire le point sur la situation et les différents usages des écrans\, au travers de nos observations cliniques et nos réflexions d’équipe. \n\nNiels Weber\, psychologue-psychothérapeute FSP (orientation systémique)\, spécialiste en hyperconnectivité\, pratique en cabinet privé à Lausanne\nFrançois Robert\, psychologue FSP (certifié en Analyse Transactionnelle\, formé à la Somatic Experiencing (Levine))\, pratique en milieu scolaire à Lausanne\nCarlos Iglesias\, psychologue-psychothérapeute FSP (orientation psychanalytique)\, pratique en milieu scolaire à Lausanne\n\nLien d’inscription : https://us02web.zoom.us/webinar/register/WN_Xzk_FG78SjiCoofGVkHotg
URL:https://nielsweber.ch/event/webinaire-farp-accompagnement-des-familles-dans-la-gestion-des-ecrans-bilan-et-perspectives/
LOCATION:En ligne
CATEGORIES:Conférence
ORGANIZER;CN="FARP":MAILTO:admin@farp.ch
END:VEVENT
BEGIN:VEVENT
DTSTART;TZID=Europe/Zurich:20210423T084500
DTEND;TZID=Europe/Zurich:20210423T084500
DTSTAMP:20260425T140031
CREATED:20210418T172355Z
LAST-MODIFIED:20210418T172437Z
UID:1392-1619167500-1619167500@nielsweber.ch
SUMMARY:XIe Journée de psychiatrie 2021\, «Au loin. Le soin dans la distance et la distance dans le soin»\, en ligne
DESCRIPTION:
URL:https://nielsweber.ch/event/1392/
LOCATION:En ligne
CATEGORIES:Conférence
ATTACH;FMTTYPE=image/png:https://nielsweber.ch/wp-content/uploads/2021/04/HESAV.png
END:VEVENT
BEGIN:VEVENT
DTSTART;TZID=Europe/Zurich:20210421T133000
DTEND;TZID=Europe/Zurich:20210421T180000
DTSTAMP:20260425T140031
CREATED:20210418T171229Z
LAST-MODIFIED:20210418T171413Z
UID:1386-1619011800-1619028000@nielsweber.ch
SUMMARY:Colloque en ligne\, Prévenir le harcèlement scolaire\, Zoom
DESCRIPTION:Inscription :Direction@cri-voixdesvictimes.ch
URL:https://nielsweber.ch/event/colloque-en-ligne-prevenir-le-harcelement-scolaire-zoom/
LOCATION:Zoom\, En ligne
CATEGORIES:Conférence
ATTACH;FMTTYPE=image/png:https://nielsweber.ch/wp-content/uploads/2021/04/Harcelement-scolaire.png
END:VEVENT
BEGIN:VEVENT
DTSTART;TZID=Europe/Zurich:20210309T133000
DTEND;TZID=Europe/Zurich:20210309T180000
DTSTAMP:20260425T140031
CREATED:20210224T095830Z
LAST-MODIFIED:20210224T095958Z
UID:1302-1615296600-1615312800@nielsweber.ch
SUMMARY:Conférence en ligne: Hyperconnectivité et psychothérapie (CHUV)
DESCRIPTION:
URL:https://nielsweber.ch/event/conference-en-ligne-hyperconnectivite-et-psychotherapie-chuv/
LOCATION:Zoom\, En ligne
CATEGORIES:Conférence
ATTACH;FMTTYPE=image/png:https://nielsweber.ch/wp-content/uploads/2021/02/CHUV-9-mars.png
END:VEVENT
BEGIN:VEVENT
DTSTART;TZID=Europe/Zurich:20210302T080000
DTEND;TZID=Europe/Zurich:20210302T183000
DTSTAMP:20260425T140031
CREATED:20210224T094531Z
LAST-MODIFIED:20210224T094531Z
UID:1297-1614672000-1614709800@nielsweber.ch
SUMMARY:Conférence en ligne à destination des parents de l'école Moser\, Genève
DESCRIPTION:
URL:https://nielsweber.ch/event/conference-en-ligne-a-destination-des-parents-de-lecole-moser-geneve/
LOCATION:Ecole Moser de Genève\, Chemin de la Montagne 81\,\, Chêne-Bougeries\, 1224\, Suisse
CATEGORIES:Conférence
END:VEVENT
BEGIN:VEVENT
DTSTART;TZID=Europe/Zurich:20210128T200000
DTEND;TZID=Europe/Zurich:20210128T213000
DTSTAMP:20260425T140031
CREATED:20210128T114242Z
LAST-MODIFIED:20210128T114242Z
UID:1260-1611864000-1611869400@nielsweber.ch
SUMMARY:"Zoom" sur l'usage du numérique en temps de Covid.
DESCRIPTION:La situation de confinement nous a contraint à limiter les contacts avec autrui et à compenser par une utilisation accrue des écrans. Ceci représente une occasion inédite de comprendre l’importance accordée aux relations numériques\, notamment par les plus jeunes. Quelle responsabilité avons-nous dans l’accompagnement vers le maintien d’une complémentarité?  \nJe réponds à l’invitation de l’association Vully Aujourd’hui\,pour un petit état de la situation\, suivi d’un moment de discussion.\n \nLa conférence est en accès libre\, via Microsoft Teams\, en suivant ce lien.
URL:https://nielsweber.ch/event/zoom-sur-lusage-du-numerique-en-temps-de-covid/
LOCATION:En ligne
CATEGORIES:Conférence
ATTACH;FMTTYPE=image/png:https://nielsweber.ch/wp-content/uploads/2021/01/vully-stamm.png
END:VEVENT
BEGIN:VEVENT
DTSTART;TZID=Europe/Zurich:20201124T130000
DTEND;TZID=Europe/Zurich:20201124T170000
DTSTAMP:20260425T140031
CREATED:20200929T223954Z
LAST-MODIFIED:20201023T145837Z
UID:1129-1606222800-1606237200@nielsweber.ch
SUMMARY:Reporté ultérieurement. Journée nationale des compétences médias. Berne
DESCRIPTION:Information à venir
URL:https://nielsweber.ch/event/journee-nationale-des-competences-medias-berne/
CATEGORIES:Conférence
END:VEVENT
BEGIN:VEVENT
DTSTART;TZID=Europe/Zurich:20201027T183000
DTEND;TZID=Europe/Zurich:20201027T203000
DTSTAMP:20260425T140031
CREATED:20200929T222209Z
LAST-MODIFIED:20200929T222209Z
UID:1110-1603823400-1603830600@nielsweber.ch
SUMMARY:Cyber Days\, Ecole Moser. Intervention scolaire et conférence aux parents. Nyon.
DESCRIPTION:
URL:https://nielsweber.ch/event/cyber-days-ecole-moser-intervention-scolaire-et-conference-aux-parents-nyon/
LOCATION:Ecole Moser de Nyon\, 6\, Avenue Reverdil 4\, Nyon\, 1260
CATEGORIES:Conférence
END:VEVENT
BEGIN:VEVENT
DTSTART;TZID=Europe/Zurich:20200326T200000
DTEND;TZID=Europe/Zurich:20200326T210000
DTSTAMP:20260425T140031
CREATED:20200224T234642Z
LAST-MODIFIED:20200224T234642Z
UID:928-1585252800-1585256400@nielsweber.ch
SUMMARY:Conférence scolaire pour les parents des 1P\, Aigle
DESCRIPTION:
URL:https://nielsweber.ch/event/conference-scolaire-pour-les-parents-des-1p-aigle/
LOCATION:Etablissement Primaire et Secondaire d’Aigle\, Rue du Collège 12\, Aigle\, 1860\, Suisse
CATEGORIES:Conférence
END:VEVENT
BEGIN:VEVENT
DTSTART;TZID=Europe/Zurich:20200317T190000
DTEND;TZID=Europe/Zurich:20200317T210000
DTSTAMP:20260425T140031
CREATED:20200224T231611Z
LAST-MODIFIED:20200224T231630Z
UID:918-1584471600-1584478800@nielsweber.ch
SUMMARY:Conférence "Les écrans: Comment éviter que les écrans ne prennent trop de place dans la vie de famille ou comment les utiliser intelligemment avec vos enfants". Chavannes-près-Renens
DESCRIPTION:
URL:https://nielsweber.ch/event/conference-les-ecrans-comment-eviter-que-les-ecrans-ne-prennent-trop-de-place-dans-la-vie-de-famille-ou-comment-les-utiliser-intelligemment-avec-vos-enfants-chavannes-pres-renens/
LOCATION:Etablissement primaire et secondaire de Chavannes-près-Renens et de St-Sulpice\, Avenue de la Concorde 1\, Chavannes-près-Renens\, vaud\, 1022\, Suisse
CATEGORIES:Conférence
END:VEVENT
BEGIN:VEVENT
DTSTART;TZID=Europe/Zurich:20200309T193000
DTEND;TZID=Europe/Zurich:20200309T210000
DTSTAMP:20260425T140031
CREATED:20200224T225943Z
LAST-MODIFIED:20200224T230902Z
UID:905-1583782200-1583787600@nielsweber.ch
SUMMARY:Conférence croisée "Jeux Vidéo et Apprentissages"\, avec Florence Quinche\, Le Mont-sur-Lausanne
DESCRIPTION:
URL:https://nielsweber.ch/event/conference-croisee-jeux-video-et-apprentissages-avec-florence-quinche-le-mont-sur-lausanne/
LOCATION:College du Mottier\, Route de la Blecherette 5B\, Le Mont-sur-Lausanne\, Vaud\, 1052\, Suisse
CATEGORIES:Conférence
ATTACH;FMTTYPE=image/jpeg:https://nielsweber.ch/wp-content/uploads/2020/02/emitic.jpg
END:VEVENT
BEGIN:VEVENT
DTSTART;TZID=Europe/Zurich:20200130T190000
DTEND;TZID=Europe/Zurich:20200130T203000
DTSTAMP:20260425T140031
CREATED:20200125T172614Z
LAST-MODIFIED:20200125T173226Z
UID:886-1580410800-1580416200@nielsweber.ch
SUMMARY:Conférence "Réfléchir la place des écrans dans les familles"\, Neuchâtel
DESCRIPTION:
URL:https://nielsweber.ch/event/conference-reflechir-la-place-des-ecrans-dans-les-familles-neuchatel/
LOCATION:Hôtel du Peyrou\, Avenue DuPeyrou 1\, Neuchâtel\, Neuchâtel\, 2000\, Suisse
CATEGORIES:Conférence
ATTACH;FMTTYPE=image/png:https://nielsweber.ch/wp-content/uploads/2020/01/ANPP.png
ORGANIZER;CN="Association Neuch%C3%A2teloise des Psychologues et Psychologues-Psychoth%C3%A9rapeutes":MAILTO:info@anpp.ch
END:VEVENT
BEGIN:VEVENT
DTSTART;TZID=Europe/Zurich:20191121T081500
DTEND;TZID=Europe/Zurich:20191121T163000
DTSTAMP:20260425T140031
CREATED:20190924T164043Z
LAST-MODIFIED:20190924T164043Z
UID:764-1574324100-1574353800@nielsweber.ch
SUMMARY:Colloque Vivre ensemble avec les écrans : penser nos usages et nos représentations\, Genève
DESCRIPTION:Une journée pour faire le point sur les enjeux éducatifs que représente l’omniprésence des écrans dans nos vies privées et professionnelles. Des conférences et tables rondes permettront de réfléchir aux fractures générationnelles et aux nouveaux moyens d’agir dans un contexte de société connectée. \nCe colloque axé sur la recherche et la pratique est organisé par la HETS en partenariat avec la Fondation Action Innocence. Il est destiné aux professionnel-le-s du social et à toute personne intéressée et se déroulera à la HETS.
URL:https://nielsweber.ch/event/colloque-vivre-ensemble-avec-les-ecrans-penser-nos-usages-et-nos-representations-geneve/
LOCATION:HETS-Genève\, Rue du Pré-Jérôme 16\, Genève\, Genève\, 1205\, Suisse
CATEGORIES:Conférence
ATTACH;FMTTYPE=image/jpeg:https://nielsweber.ch/wp-content/uploads/2019/09/capture-colloque-hets.jpg
END:VEVENT
BEGIN:VEVENT
DTSTART;TZID=Europe/Zurich:20191114T193000
DTEND;TZID=Europe/Zurich:20191114T213000
DTSTAMP:20260425T140031
CREATED:20190911T142348Z
LAST-MODIFIED:20191107T101608Z
UID:747-1573759800-1573767000@nielsweber.ch
SUMMARY:Conférence parents-ados\, Lutry
DESCRIPTION:
URL:https://nielsweber.ch/event/747/
LOCATION:Salle du Conseil – Lutry\, Lutry\, Suisse
CATEGORIES:Conférence
ATTACH;FMTTYPE=image/jpeg:https://nielsweber.ch/wp-content/uploads/2019/09/Lutry.jpg
END:VEVENT
BEGIN:VEVENT
DTSTART;TZID=Europe/Zurich:20191023T173000
DTEND;TZID=Europe/Zurich:20191023T220000
DTSTAMP:20260425T140031
CREATED:20191016T204055Z
LAST-MODIFIED:20191016T204301Z
UID:791-1571851800-1571868000@nielsweber.ch
SUMMARY:Conférence TedX Ecublens "Show me your games\, I’ll tell you who you are"
DESCRIPTION: 
URL:https://nielsweber.ch/event/conference-tedx-ecublens/
LOCATION:EPFL Salle Polyvalente\, Building CE 1515\,\, EPFL Route Cantonale\, Lausanne\, Vaud\, Suisse
CATEGORIES:Conférence
ATTACH;FMTTYPE=image/png:https://nielsweber.ch/wp-content/uploads/2019/10/tedx2.png
END:VEVENT
BEGIN:VEVENT
DTSTART;TZID=Europe/Zurich:20190917T200000
DTEND;TZID=Europe/Zurich:20190917T213000
DTSTAMP:20260425T140031
CREATED:20190909T222928Z
LAST-MODIFIED:20190911T142441Z
UID:735-1568750400-1568755800@nielsweber.ch
SUMMARY:Conférence sur le thème des écrans dans la vie de famille\, Troistorrents
DESCRIPTION:
URL:https://nielsweber.ch/event/conference-sur-le-theme-des-ecrans-dans-la-vie-de-famille-troistorrents/
LOCATION:Chalet de la Treille\, Troistorrents\, Route du Village 1\, Troistorrents\, 1872\, Suisse
CATEGORIES:Conférence
ATTACH;FMTTYPE=image/jpeg:https://nielsweber.ch/wp-content/uploads/2019/09/confrence_17.9.2019-troistorrents.jpg
END:VEVENT
BEGIN:VEVENT
DTSTART;TZID=Europe/Zurich:20190911T193000
DTEND;TZID=Europe/Zurich:20190911T213000
DTSTAMP:20260425T140031
CREATED:20190909T220718Z
LAST-MODIFIED:20190912T055023Z
UID:723-1568230200-1568237400@nielsweber.ch
SUMMARY:Conférence à l'attention des nouveaux élèves 1P - Avenches
DESCRIPTION:
URL:https://nielsweber.ch/event/conference-a-lattention-des-nouveaux-eleves-1p-avenches/
LOCATION:Place du Château\, 1580 Avenches\, Suisse\, Place du Chateau\, Avenches\, 1580\, Suisse
CATEGORIES:Conférence
END:VEVENT
BEGIN:VEVENT
DTSTART;TZID=Europe/Zurich:20190516T190000
DTEND;TZID=Europe/Zurich:20190516T210000
DTSTAMP:20260425T140031
CREATED:20190120T165856Z
LAST-MODIFIED:20190513T154955Z
UID:496-1558033200-1558040400@nielsweber.ch
SUMMARY:Conférence parents-enfants\, Pont-en-Ogoz.
DESCRIPTION:
URL:https://nielsweber.ch/event/conference-parents-enfants/
CATEGORIES:Conférence
ATTACH;FMTTYPE=image/jpeg:https://nielsweber.ch/wp-content/uploads/2019/01/Ogo.jpg
END:VEVENT
BEGIN:VEVENT
DTSTART;TZID=Europe/Zurich:20190515T083000
DTEND;TZID=Europe/Zurich:20190515T113000
DTSTAMP:20260425T140031
CREATED:20190329T160643Z
LAST-MODIFIED:20190329T160643Z
UID:614-1557909000-1557919800@nielsweber.ch
SUMMARY:Conférence "Les écrans accompagner les enfants et les familles dans la gestion de leurs utilisations."\, Neuchâtel
DESCRIPTION:
URL:https://nielsweber.ch/event/conference-les-ecrans-accompagner-les-enfants-et-les-familles-dans-la-gestion-de-leurs-utilisations-neuchatel/
LOCATION:Hôtel Alpes et Lac\, Neuchâtel\, Place de la Gare 2\, Neuchâtel\, Neuchâtel\, 2000\, Suisse
CATEGORIES:Conférence
ATTACH;FMTTYPE=image/jpeg:https://nielsweber.ch/wp-content/uploads/2019/03/Capture-2.jpg
ORGANIZER;CN="Service de la Sant%C3%A9 Publique de Neuch%C3%A2tel":MAILTO:Service.SantePublique@ne.ch
END:VEVENT
BEGIN:VEVENT
DTSTART;TZID=Europe/Zurich:20190514T200000
DTEND;TZID=Europe/Zurich:20190514T220000
DTSTAMP:20260425T140031
CREATED:20190329T160013Z
LAST-MODIFIED:20190329T160013Z
UID:610-1557864000-1557871200@nielsweber.ch
SUMMARY:Conférence-débat Parents-Ados\, "Enfant + écran = danger ? Tout est-il vraiment bon à jeter ?"\, Aubonne.
DESCRIPTION:
URL:https://nielsweber.ch/event/conference-debat-parents-ados-enfant-ecran-danger-tout-est-il-vraiment-bon-a-jeter-aubonne/
LOCATION:Aula du Chateau d’Aubonne\, Chateau d'Aubonne\, Aubonne\, Vaud\, 1170\, Suisse
CATEGORIES:Conférence
ATTACH;FMTTYPE=image/jpeg:https://nielsweber.ch/wp-content/uploads/2019/03/Capture-1.jpg
END:VEVENT
BEGIN:VEVENT
DTSTART;TZID=Europe/Zurich:20190503T080000
DTEND;TZID=Europe/Zurich:20190503T170000
DTSTAMP:20260425T140031
CREATED:20190120T163534Z
LAST-MODIFIED:20190327T073031Z
UID:481-1556870400-1556902800@nielsweber.ch
SUMMARY:Colloque EESP - Prendre sa santé au jeu : exploration de la diversité occupationnelle
DESCRIPTION:Le troisième colloque organisé par le réseau de compétences : Occupation humaine et santé (OHS) vise à explorer le jeu sous toutes ses formes. \nLes participant·e·s pourront prendre connaissance des derniers développements du jeu et de ses diverses applications\, qu’importe le groupe d’âge ou leurs conditions de vie. A travers le jeu comme occupation\, les échanges permettront de faire des liens avec les sciences de l’occupation (SdO) et la santé. \nLes acteurs et actrices du domaine de la santé\, de l’éducation et du travail social sont invité·e·s à participer à ce colloque\, qui leur permettra d’être inspiré·e·s et de réfléchir à leurs pratiques professionnelles. Des conférenciers et conférencières de différentes formations\, venant de Suisse et d’ailleurs\, présenteront leurs idées et stimuleront la discussion autour du jeu comme occupation. \nC’est une invitation pour venir à Lausanne le 3 mai 2019 jouer… avec les concepts des sciences de l’occupation. \nPublic cible\n\nEnseignant·e·s\nErgothérapeutes\nInfirmiers\, infirmières\nOrthophonistes\nPhysiothérapeutes\nProfessionnel·le·s de la santé\nProfessionnel·le·s du travail social\nPsychologues\n\nThématiques\n\nJeu comme occupation universelle\nJeu et santé\nDiversité occupationnelle du jeu
URL:https://nielsweber.ch/event/congres/
LOCATION:Haute école de travail social et de la santé (HETSL)\, Lausanne\, Chemin des Abeilles 14\, Lausanne\, Vaud\, 1010\, Suisse
CATEGORIES:Conférence
ATTACH;FMTTYPE=image/jpeg:https://nielsweber.ch/wp-content/uploads/2019/01/Capture.jpg
END:VEVENT
BEGIN:VEVENT
DTSTART;TZID=Europe/Zurich:20190430T200000
DTEND;TZID=Europe/Zurich:20190430T220000
DTSTAMP:20260425T140031
CREATED:20180705T093124Z
LAST-MODIFIED:20190411T182029Z
UID:253-1556654400-1556661600@nielsweber.ch
SUMMARY:Conférence\, Jeux vidéo - ouvrir des espaces de dialogues pour prévenir les excès\, Maison de quartier des Eaux-Vives
DESCRIPTION:Le jeu vidéo est devenu un objet culturel ; qui dit « culture » doit aussi pouvoir dire « critique ».\nCet esprit critique fait souvent défaut. Si la majorité des gens jouent\, il n’existe encore que\npeu d’espaces dans lesquels aborder ce qui est vécu à travers cette pratique (et celles des\nécrans de manière plus générale).\nSans diaboliser\, ni angéliser ces outils numériques\, il devient capital de se questionner sur\nles pratiques des plus jeunes\, mais également sur les nôtres.\nNous verrons ainsi de quelle manière établir un dialogue entre adeptes et néophytes et ainsi\nfavoriser le développement du partage en famille.
URL:https://nielsweber.ch/event/conference-jeux-video-ouvrir-des-espaces-de-dialogues-pour-prevenir-les-exces-maison-de-quartier-des-eaux-vives/
LOCATION:Maison de quartier des Eaux-Vives\, Chemin de la Clairière 3\, Genève 6\, Genève\, 1211
CATEGORIES:Conférence
ATTACH;FMTTYPE=image/jpeg:https://nielsweber.ch/wp-content/uploads/2018/07/Maison-de-quartier-eaux-vives-30-avril-2019.jpg
END:VEVENT
BEGIN:VEVENT
DTSTART;TZID=Europe/Zurich:20190409T193000
DTEND;TZID=Europe/Zurich:20190409T213000
DTSTAMP:20260425T140031
CREATED:20190408T161705Z
LAST-MODIFIED:20190408T161705Z
UID:628-1554838200-1554845400@nielsweber.ch
SUMMARY:Conférence "Famille 4.0: La place des écrans au quotidien\, comment éviter les débordements?"
DESCRIPTION:
URL:https://nielsweber.ch/event/conference-famille-4-0-la-place-des-ecrans-au-quotidien-comment-eviter-les-debordements/
LOCATION:Maison des associations de Genève\, Rue des Savoises 15\, Genève\, Genève\, 1205\, Suisse
CATEGORIES:Conférence
ATTACH;FMTTYPE=image/png:https://nielsweber.ch/wp-content/uploads/2019/04/agtf-genève-9-avril-2019.png
END:VEVENT
BEGIN:VEVENT
DTSTART;TZID=Europe/Zurich:20190408T134500
DTEND;TZID=Europe/Zurich:20190408T151500
DTSTAMP:20260425T140031
CREATED:20190120T162221Z
LAST-MODIFIED:20190120T162400Z
UID:473-1554731100-1554736500@nielsweber.ch
SUMMARY:Conférence - Comment poser un cadre à l'utilisation du numérique chez les enfants?
DESCRIPTION:Comment prévenir l’usage excessif des écrans par les enfants et jeunes adolescents\, dans le cadre du Café des mamans. \nGratuit\, sans inscription. \nRECIF est une association sans but lucratif créée à Neuchâtel en 1994 par un groupe de femmes étrangères et suisses. En 2003\, un centre a également été ouvert à la Chaux-de-Fonds. \nRECIF vise à soutenir et faciliter l’intégration des femmes migrantes et de leurs enfants ainsi qu’à favoriser les rencontres et les échanges entre femmes d’horizons divers. Trois champs d’action ont été mis en place pour atteindre ces objectifs : des activités de formation; des activités pour les enfants ainsi qu’un espace d’animation\, de rencontres et d’échanges. \nRECIF s’adresse à toute femme qui cherche un lieu de rencontres propice aux échanges\, souhaite acquérir des connaissances pratiques qui facilitent son intégration\, désire créer des contacts amicaux et sociaux.
URL:https://nielsweber.ch/event/conference-comment-poser-un-cadre-a-lutilisation-du-numerique-chez-les-enfants/
LOCATION:Association RECIF\, Rue du Doubs 32\, La Chaux-de-Fonds\, Neuchâtel\, 2300\, Suisse
CATEGORIES:Conférence
ATTACH;FMTTYPE=image/jpeg:https://nielsweber.ch/wp-content/uploads/2019/01/recif.jpg
ORGANIZER;CN="RECIF":MAILTO:2300@recifNE.ch
END:VEVENT
BEGIN:VEVENT
DTSTART;TZID=Europe/Zurich:20190305T200000
DTEND;TZID=Europe/Zurich:20190305T220000
DTSTAMP:20260425T140031
CREATED:20180705T092702Z
LAST-MODIFIED:20180705T093455Z
UID:248-1551816000-1551823200@nielsweber.ch
SUMMARY:Conférence "Réseaux sociaux - Mise en scène de soi"\, Maison de quartier des Eaux-Vives
DESCRIPTION:Les pratiques de sociabilité des jeunes sur Internet peuvent interpeller : gestion de l’intimité\, exposition de soi\, de son image.\nCependant les réseaux sociaux ne sont pas que l’apanage des adolescents ! Nous sommes\naujourd’hui plus de 3 milliards d’utilisateurs. Être en lien est ce qui motive l’implication dans ces réseaux. Ce processus passe notamment par une forme de mise en scène où l’on ne\nposte que ce qui nous met en valeur\, naturellement.\nQuestionner ces diverses utilisations nous permet aussi d’aborder notre propre relation aux\nimages\, que l’on soit une femme ou un homme.\nIl est temps d’ouvrir la discussion pour que les adolescents puissent s’exprimer et les parents se sentir légitimés dans leur rôle d’accompagnant.
URL:https://nielsweber.ch/event/conference-reseaux-sociaux-mise-en-scene-de-soi/
LOCATION:Maison de quartier des Eaux-Vives\, Chemin de la Clairière 3\, Genève 6\, Genève\, 1211
CATEGORIES:Conférence
END:VEVENT
BEGIN:VEVENT
DTSTART;TZID=Europe/Zurich:20190220T180000
DTEND;TZID=Europe/Zurich:20190220T210000
DTSTAMP:20260425T140031
CREATED:20190120T133021Z
LAST-MODIFIED:20190211T223210Z
UID:444-1550685600-1550696400@nielsweber.ch
SUMMARY:Conférence - APSYL
DESCRIPTION:De Super Mario à Fortnite : Pourquoi les jeux vidéo fascinent ?\nLes jeux vidéo suscitent de nos jours un grand intérêt tant au niveau du grand public que des praticien·ne·s et des chercheur·se·s. Au-delà de la question de l’addiction\, cette conférence portera sur ce qui nous attire dans les pratiques vidéoludiques. \n\n\nEn collaboration avec Yannick Rochat\, Premier assistant et chercheur en humanités numériques à l’Unil. Co-fondateur de l’Unil GameLab et coordinateur du programme doctoral en études numériques de l’Université de Lausanne
URL:https://nielsweber.ch/event/conference-apsyl/
LOCATION:UNIL\, Geopolis\, Vaud\, Suisse
CATEGORIES:Conférence
ATTACH;FMTTYPE=image/jpeg:https://nielsweber.ch/wp-content/uploads/2019/01/Conférence-Apsyl-Rochat-20.02.19.jpeg
END:VEVENT
BEGIN:VEVENT
DTSTART;TZID=Europe/Zurich:20190212T190000
DTEND;TZID=Europe/Zurich:20190212T210000
DTSTAMP:20260425T140031
CREATED:20180705T091206Z
LAST-MODIFIED:20190212T095323Z
UID:246-1549998000-1550005200@nielsweber.ch
SUMMARY:Conférence-débat parents-ados\, "Hyperconnectivité"\, Association de parents de Prilly
DESCRIPTION:Conférence ouverte aux parents ET aux ados!
URL:https://nielsweber.ch/event/conference-debat-parents-ados-hyperconnectivite-association-de-parents-de-prilly/
LOCATION:Salle de Castelmont\, Prilly\, Rte de Cossonay 42\, Prilly\, 1008\, Suisse
CATEGORIES:Conférence
ATTACH;FMTTYPE=application/pdf:https://nielsweber.ch/wp-content/uploads/2018/07/Copie-de-Hyperconnectivité.pdf
END:VEVENT
BEGIN:VEVENT
DTSTART;TZID=Europe/Zurich:20190205T193000
DTEND;TZID=Europe/Zurich:20190205T210000
DTSTAMP:20260425T140031
CREATED:20190120T124657Z
LAST-MODIFIED:20190120T125219Z
UID:428-1549395000-1549400400@nielsweber.ch
SUMMARY:Conférence parents - Comment aborder l'hyperconnectivité avec les ados?
DESCRIPTION:Conférence co-animée avec Mme. Olivia Cutruzzolà\, Cheffe de section prévention criminelle à la Police Cantonale Vaudoise.
URL:https://nielsweber.ch/event/conference-parents-comment-aborder-lhyperconnectivite-avec-les-ados/
LOCATION:Collège de la Planta\, Avenue de la Concorde 1\, Chavannes-près-Renens\, Vaud\, 1022\, Suisse
CATEGORIES:Conférence
ATTACH;FMTTYPE=image/jpeg:https://nielsweber.ch/wp-content/uploads/2019/01/Collège-de-la-Planta.jpg
END:VEVENT
BEGIN:VEVENT
DTSTART;TZID=Europe/Zurich:20190122T190000
DTEND;TZID=Europe/Zurich:20190122T210000
DTSTAMP:20260425T140031
CREATED:20190120T122830Z
LAST-MODIFIED:20190120T123058Z
UID:423-1548183600-1548190800@nielsweber.ch
SUMMARY:Conférence parents - Collège du Léman
DESCRIPTION:
URL:https://nielsweber.ch/event/conference-parents-college-du-leman/
LOCATION:Collège du Léman\, Versoix\, Suisse
CATEGORIES:Conférence
END:VEVENT
BEGIN:VEVENT
DTSTART;TZID=Europe/Zurich:20181206T080000
DTEND;TZID=Europe/Zurich:20181206T170000
DTSTAMP:20260425T140031
CREATED:20180709T091117Z
LAST-MODIFIED:20180709T091302Z
UID:272-1544083200-1544115600@nielsweber.ch
SUMMARY:Colloque prévention et promotion de la santé 2018\, "La promotion de la santé à portée d’écran tactile : les évolutions technologiques tiendront-elles leurs promesses ?"Neuchâtel
DESCRIPTION:Table ronde en plénière de 14h00 à 14h40. \nConférence « L’utilisation des jeux vidéo en prévention et promotion de la santé« \, de 15h00 à 15h40
URL:https://nielsweber.ch/event/colloque-prevention-et-promotion-de-la-sante-2018-la-promotion-de-la-sante-a-portee-decran-tactile-les-evolutions-technologiques-tiendront-elles-leurs-promesses-neuchatel/
LOCATION:Microcity\, Rue de la Maladière 71\, Neuchâtel\, Neuchâtel\, 2000\, Suisse
CATEGORIES:Conférence
ORGANIZER;CN="Service de la Sant%C3%A9 Publique de Neuch%C3%A2tel":MAILTO:Service.SantePublique@ne.ch
END:VEVENT
END:VCALENDAR